BEGIN:VCALENDAR
VERSION:2.0
PRODID:-//Fredericksburg Nature Center - ECPv6.15.20//NONSGML v1.0//EN
CALSCALE:GREGORIAN
METHOD:PUBLISH
X-ORIGINAL-URL:https://fredericksburgnaturecenter.com
X-WR-CALDESC:Events for Fredericksburg Nature Center
REFRESH-INTERVAL;VALUE=DURATION:PT1H
X-Robots-Tag:noindex
X-PUBLISHED-TTL:PT1H
BEGIN:VTIMEZONE
TZID:UTC
BEGIN:STANDARD
TZOFFSETFROM:+0000
TZOFFSETTO:+0000
TZNAME:UTC
DTSTART:20210101T000000
END:STANDARD
END:VTIMEZONE
BEGIN:VEVENT
DTSTART;TZID=UTC:20250610T100000
DTEND;TZID=UTC:20250610T110000
DTSTAMP:20260423T021100
CREATED:20250519T225632Z
LAST-MODIFIED:20250519T225632Z
UID:2467-1749549600-1749553200@fredericksburgnaturecenter.com
SUMMARY:Summer Story at the Park
DESCRIPTION:BACK BY POPULAR DEMAND! Each Tuesday from June 10 to July 29\, 2025\, from 10:15 to 11:00 a.m.\, Friends of Fredericksburg Nature Center will once again host Story Time at the Park. The event will take place under the live oaks adjacent to the Pollinator Garden at Lady Bird Johnson Municipal Park. Each Tuesday\, volunteers will engage and delight children in the reading of a nature-themed storybook. Following the reading\, children will participate in a hands-on activity related to the content of the book. Kicking off the series on Tuesday\, June 10 will be the reading of “Wildflower” by Melanie Brown\, with illustrations by Sarah Gillingham. “Wildflower” is a moving picture book about a daisy who is told she’s “just a weed” and then embarks on a journey to find her place in the garden. The guest reader will be FFNC volunteer Nancy Person. Following the reading\, children will participate in the making of a seed ball. Additionally\, each child will receive a packet of Zinnia seeds to take home and plant in their garden. Parents and children of all ages are invited\, keeping in mind that the storybooks are geared for ages 3 to 8. Reservations are encouraged by emailing Gracie at gwaggener@flow-apps.com.
URL:https://fredericksburgnaturecenter.com/event/summer-story-at-the-park/
ATTACH;FMTTYPE=image/jpeg:https://fredericksburgnaturecenter.com/wp-content/uploads/2025/05/Summer-Story-Time-2025-Draft.jpg
END:VEVENT
BEGIN:VEVENT
DTSTART;TZID=UTC:20250607T100000
DTEND;TZID=UTC:20250607T120000
DTSTAMP:20260423T021100
CREATED:20250519T225250Z
LAST-MODIFIED:20250519T225250Z
UID:2461-1749290400-1749297600@fredericksburgnaturecenter.com
SUMMARY:Friends of Fredericksburg Nature Center Presents - Steve Nelle
DESCRIPTION:
URL:https://fredericksburgnaturecenter.com/event/friends-of-fredericksburg-nature-center-presents-steve-nelle/
LOCATION:AgriLife Extension Office 38 Business Court – Fredericksburg\, Texas
ATTACH;FMTTYPE=image/png:https://fredericksburgnaturecenter.com/wp-content/uploads/2025/05/Lessons-from-Leopold-full-page-publicity-4-30-25.png
END:VEVENT
BEGIN:VEVENT
DTSTART;TZID=UTC:20250607T090000
DTEND;TZID=UTC:20250607T103000
DTSTAMP:20260423T021100
CREATED:20250215T193912Z
LAST-MODIFIED:20250215T194000Z
UID:2404-1749286800-1749292200@fredericksburgnaturecenter.com
SUMMARY:Saturday in the Park Guided Nature Hikes
DESCRIPTION:
URL:https://fredericksburgnaturecenter.com/event/saturday-in-the-park-guided-nature-hikes-4/
LOCATION:Live Oak Trail at Lady Bird Johnson Municipal Park
ATTACH;FMTTYPE=image/png:https://fredericksburgnaturecenter.com/wp-content/uploads/2025/02/Saturday-in-the-Park-Guided-Nature-Hikes.png
END:VEVENT
BEGIN:VEVENT
DTSTART;TZID=UTC:20250426T090000
DTEND;TZID=UTC:20250426T103000
DTSTAMP:20260423T021100
CREATED:20250215T193831Z
LAST-MODIFIED:20250215T194023Z
UID:2402-1745658000-1745663400@fredericksburgnaturecenter.com
SUMMARY:Saturday in the Park Guided Nature Hikes
DESCRIPTION:
URL:https://fredericksburgnaturecenter.com/event/saturday-in-the-park-guided-nature-hikes-3/
LOCATION:Live Oak Trail at Lady Bird Johnson Municipal Park
ATTACH;FMTTYPE=image/png:https://fredericksburgnaturecenter.com/wp-content/uploads/2025/02/Saturday-in-the-Park-Guided-Nature-Hikes.png
END:VEVENT
BEGIN:VEVENT
DTSTART;TZID=UTC:20250412T130000
DTEND;TZID=UTC:20250412T130000
DTSTAMP:20260423T021100
CREATED:20250330T220922Z
LAST-MODIFIED:20250330T221802Z
UID:2431-1744462800-1744462800@fredericksburgnaturecenter.com
SUMMARY:Friends of Fredericksburg Nature Genter to Sponsor Special Children's Program
DESCRIPTION:
URL:https://fredericksburgnaturecenter.com/event/friends-of-fredericksburg-nature-genter-to-sponsor-special-childrens-program/
ATTACH;FMTTYPE=image/png:https://fredericksburgnaturecenter.com/wp-content/uploads/2025/03/APRIL-CHILDRENS-Program-Flyer.png
END:VEVENT
BEGIN:VEVENT
DTSTART;TZID=UTC:20250405T090000
DTEND;TZID=UTC:20250405T103000
DTSTAMP:20260423T021100
CREATED:20250215T193804Z
LAST-MODIFIED:20250215T194050Z
UID:2399-1743843600-1743849000@fredericksburgnaturecenter.com
SUMMARY:Saturday in the Park Guided Nature Hikes
DESCRIPTION:
URL:https://fredericksburgnaturecenter.com/event/saturday-in-the-park-guided-nature-hikes-2/
LOCATION:Live Oak Trail at Lady Bird Johnson Municipal Park
ATTACH;FMTTYPE=image/png:https://fredericksburgnaturecenter.com/wp-content/uploads/2025/02/Saturday-in-the-Park-Guided-Nature-Hikes.png
END:VEVENT
BEGIN:VEVENT
DTSTART;TZID=UTC:20250301T090000
DTEND;TZID=UTC:20250301T103000
DTSTAMP:20260423T021100
CREATED:20250215T193541Z
LAST-MODIFIED:20250215T194108Z
UID:2396-1740819600-1740825000@fredericksburgnaturecenter.com
SUMMARY:Saturday in the Park Guided Nature Hikes
DESCRIPTION:
URL:https://fredericksburgnaturecenter.com/event/saturday-in-the-park-guided-nature-hikes/
LOCATION:Live Oak Trail at Lady Bird Johnson Municipal Park
ATTACH;FMTTYPE=image/png:https://fredericksburgnaturecenter.com/wp-content/uploads/2025/02/Saturday-in-the-Park-Guided-Nature-Hikes.png
END:VEVENT
BEGIN:VEVENT
DTSTART;TZID=UTC:20250222T100000
DTEND;TZID=UTC:20250222T120000
DTSTAMP:20260423T021100
CREATED:20250130T055716Z
LAST-MODIFIED:20250130T055810Z
UID:2290-1740218400-1740225600@fredericksburgnaturecenter.com
SUMMARY:What's That Bird?
DESCRIPTION:
URL:https://fredericksburgnaturecenter.com/event/whats-that-bird/
LOCATION:Texas Agrilife Building 38 Business Court Fredericksburg\, TX\, 38 Business Ct\, Fredericksburg\, TX\, 78624\, United States
ATTACH;FMTTYPE=image/png:https://fredericksburgnaturecenter.com/wp-content/uploads/2025/01/Whats-That-Bird-Final-Flyer-1.png
END:VEVENT
BEGIN:VEVENT
DTSTART;TZID=UTC:20250208T090000
DTEND;TZID=UTC:20250208T133000
DTSTAMP:20260423T021100
CREATED:20250102T193608Z
LAST-MODIFIED:20250102T193608Z
UID:2265-1739005200-1739021400@fredericksburgnaturecenter.com
SUMMARY:Monarch Butterfly Conservation Through Citizen Science
DESCRIPTION:The Hill Country provides critical habitat on the primary migration pathway of Monarchs to and from their wintering grounds in Mexico. Host plants and habitat have declined. Learn how you can help in the effort to create and restore Monarch habitat on your property and public lands. \nPresenters: TX Master Naturalists Carla Stang\, Sarah Hilburn\, and Barb Jansen\, with guest speaker Cathy Downs. \nTopics include: \n\nMonarch anatomy\, biology\, and life cycle\nIdentifying host and nectar plants\nMonitoring larva and reporting data\nAdditional resources
URL:https://fredericksburgnaturecenter.com/event/monarch-butterfly-conservation-through-citizen-science/
LOCATION:Texas Agrilife Building 38 Business Court Fredericksburg\, TX\, 38 Business Ct\, Fredericksburg\, TX\, 78624\, United States
ATTACH;FMTTYPE=image/png:https://fredericksburgnaturecenter.com/wp-content/uploads/2025/01/Screenshot-2025-01-02-at-11.23.59 AM.png
END:VEVENT
BEGIN:VEVENT
DTSTART;VALUE=DATE:20241126
DTEND;VALUE=DATE:20250101
DTSTAMP:20260423T021100
CREATED:20241125T000552Z
LAST-MODIFIED:20241125T000552Z
UID:2235-1732579200-1735689599@fredericksburgnaturecenter.com
SUMMARY:The Friends of The Fredericksburg Nature Center For a Holiday Story Walk!
DESCRIPTION:Stick Man Story Board Nature Walk\n 
URL:https://fredericksburgnaturecenter.com/event/the-friends-of-the-fredericksburg-nature-center-for-a-holiday-story-walk/
END:VEVENT
BEGIN:VEVENT
DTSTART;TZID=UTC:20240921T130000
DTEND;TZID=UTC:20240921T140000
DTSTAMP:20260423T021100
CREATED:20240727T202748Z
LAST-MODIFIED:20240727T202829Z
UID:2167-1726923600-1726927200@fredericksburgnaturecenter.com
SUMMARY:The Horned Lizard's Homecoming
DESCRIPTION:Did you know that the Texas Horned Lizard\, also known as a horny toad\, is the official state reptile of Texas and was once found in large numbers throughout the state? \nFredricksburg AgriLife Extension Office \n38 Business Court\, Fredericksburg\, Texas
URL:https://fredericksburgnaturecenter.com/event/the-horned-lizards-homecoming/
ATTACH;FMTTYPE=image/png:https://fredericksburgnaturecenter.com/wp-content/uploads/2024/07/Horned-Lizards-Homecoming-8.5-x-11-in-2.png
END:VEVENT
BEGIN:VEVENT
DTSTART;TZID=UTC:20240806T093000
DTEND;TZID=UTC:20240806T120000
DTSTAMP:20260423T021100
CREATED:20240727T204104Z
LAST-MODIFIED:20240727T204104Z
UID:2177-1722936600-1722945600@fredericksburgnaturecenter.com
SUMMARY:Story Time is going Batty!
DESCRIPTION:
URL:https://fredericksburgnaturecenter.com/event/story-time-is-going-batty/
ATTACH;FMTTYPE=image/png:https://fredericksburgnaturecenter.com/wp-content/uploads/2024/07/Screenshot-2024-07-27-at-1.34.15 PM.png
END:VEVENT
BEGIN:VEVENT
DTSTART;TZID=UTC:20240719T100000
DTEND;TZID=UTC:20240719T120000
DTSTAMP:20260423T021100
CREATED:20240607T191129Z
LAST-MODIFIED:20240607T191339Z
UID:2131-1721383200-1721390400@fredericksburgnaturecenter.com
SUMMARY:Snakes Alive
DESCRIPTION: Snakes Alive! What a great SUMMER NATURE SERIES program the Friends of the Fredericksburg Nature Center has lined up for Friday\, July 19\, 2024\, from 10:00 a.m. to 12:00 noon at the AgriLife Extension Office in Fredericksburg. Kory Perlichek\, Veteran Wildlife Biologist of 19 years for the Texas Parks and Wildlife Department and well-known speaker on snakes\, will present a program that is geared towards both adults and children. His talk will focus on snake safety and identification\, and YOU GUESSED IT – He is bringing LIVE SNAKES!! AND the audience will be able to handle them (they are non-venomous\, of course). Immediately following Kory’s presentation\, any young person in attendance (or young at heart) will be able to make their own snake to take home. Hurry up and reserve your spot for this educational and fun summer nature series workshop program by emailing Gracie at gwaggener@flow-apps.com.  \nDownload full PDF here
URL:https://fredericksburgnaturecenter.com/event/snakes-alive/
ATTACH;FMTTYPE=image/png:https://fredericksburgnaturecenter.com/wp-content/uploads/2024/06/Screenshot-2024-06-07-at-12.05.45 PM.png
END:VEVENT
BEGIN:VEVENT
DTSTART;TZID=UTC:20240517T100000
DTEND;TZID=UTC:20240517T120000
DTSTAMP:20260423T021100
CREATED:20240412T075438Z
LAST-MODIFIED:20240412T075438Z
UID:2100-1715940000-1715947200@fredericksburgnaturecenter.com
SUMMARY:Through the eyes of early naturalist\, settlers an artist
DESCRIPTION:  \nJOIN US FOR A UNIQUE LEARNING EXPERIENCE! On Friday\, May 17\, 2024\, from 10:00 A.M. to 12:00 P.M.\, the Friends of the Fredericksburg Nature Center invite you to a unique learning experience about the natural history of the Texas Hill Country as seen through the eyes of early naturalists\, settlers\, and artists. 
URL:https://fredericksburgnaturecenter.com/event/through-the-eyes-of-early-naturalist-settlers-an-artist/
ATTACH;FMTTYPE=application/pdf:https://fredericksburgnaturecenter.com/wp-content/uploads/2024/04/Website-Publicity-Natural-History-4-10-24.pdf
END:VEVENT
BEGIN:VEVENT
DTSTART;TZID=UTC:20240426T090000
DTEND;TZID=UTC:20240426T233000
DTSTAMP:20260423T021100
CREATED:20240327T021110Z
LAST-MODIFIED:20240327T021110Z
UID:2090-1714122000-1714174200@fredericksburgnaturecenter.com
SUMMARY:BioBlitz 2024 Event to be Held at Fredericksburg Nature Center
DESCRIPTION:In conjunction with the City Nature Challenge-San Antonio Area\, the Friends of the Fredericksburg Nature Center is sponsoring BioBlitz 2024\, a free-to-the-public event being held Friday\, April 26\, 2024\, from 9:00 a.m. until 11:30 a.m. at the Fredericksburg Nature Center located at Lady Bird Johnson Municipal Park. City Nature Challenge is an annual\, global event that encourages people in cities around the world to observe and document the biodiversity present in their urban environments using an application that is downloaded onto your phone called INaturalist. 
URL:https://fredericksburgnaturecenter.com/event/bioblitz-2024-event-to-be-held-at-fredericksburg-nature-center/
ATTACH;FMTTYPE=application/pdf:https://fredericksburgnaturecenter.com/wp-content/uploads/2024/03/Bioblitz-2024-Event-at-Fredericksburg-Nature-Center.pdf
END:VEVENT
BEGIN:VEVENT
DTSTART;TZID=UTC:20240316T100000
DTEND;TZID=UTC:20240316T130000
DTSTAMP:20260423T021100
CREATED:20240314T232725Z
LAST-MODIFIED:20240314T232725Z
UID:2084-1710583200-1710594000@fredericksburgnaturecenter.com
SUMMARY:Cemetery Birding
DESCRIPTION:“Cemetery Birding”\, presented by Jennifer Bristol\, author of Cemetery Birding and Parking Lot Birding. Field Trip to follow lecture (limited capacity)\, AgriLife Extension Office\, Fredericksburg\, TX. Pre-registration advised by contacting gwaggener@flow-apps.com.\nIf Patti has sent you info on the March 16th event and you just haven’t had a chance to post it\, please disregard that particular request.
URL:https://fredericksburgnaturecenter.com/event/cemetery-birding/
END:VEVENT
BEGIN:VEVENT
DTSTART;TZID=UTC:20240305T080000
DTEND;TZID=UTC:20240316T170000
DTSTAMP:20260423T021100
CREATED:20240314T232630Z
LAST-MODIFIED:20240314T232630Z
UID:2082-1709625600-1710608400@fredericksburgnaturecenter.com
SUMMARY:Story Walk on HAT Trail featuring “Ricky the Rock That Couldn’t Roll”
DESCRIPTION:
URL:https://fredericksburgnaturecenter.com/event/story-walk-on-hat-trail-featuring-ricky-the-rock-that-couldnt-roll/
END:VEVENT
BEGIN:VEVENT
DTSTART;TZID=UTC:20231028T100000
DTEND;TZID=UTC:20231028T120000
DTSTAMP:20260423T021100
CREATED:20230311T013752Z
LAST-MODIFIED:20230917T053649Z
UID:1802-1698487200-1698494400@fredericksburgnaturecenter.com
SUMMARY:Learning Through Nature Journaling
DESCRIPTION:Presenter: Nancy Huffman\, Hill Country Master Naturalist \n\n\n\n\nTatsch House\, Lady Bird Johnson Municipal Park\, Fredericksburg\, TX \n\n\n\n\n10:00 A.M. to 12:00 Noon. \n\nLearning Through Nature Journaling
URL:https://fredericksburgnaturecenter.com/event/learning-through-nature-journaling/
END:VEVENT
BEGIN:VEVENT
DTSTART;TZID=UTC:20230913T100000
DTEND;TZID=UTC:20230913T100000
DTSTAMP:20260423T021100
CREATED:20240314T232326Z
LAST-MODIFIED:20240314T233459Z
UID:2079-1694599200-1694599200@fredericksburgnaturecenter.com
SUMMARY:Monarchs and Milkweed Propagation Workshop II
DESCRIPTION:Monarchs and Milkweed Propagation Workshop II”\, presented by Cathy Downs\, Past Chair of Bring Back the Monarchs To Texas Committee and Certified Monarch Larval Monitoring Project Educator\, AgriLife Extension Office\, Fredericksburg\, TX.
URL:https://fredericksburgnaturecenter.com/event/monarchs-and-milkweed-propagation-workshop-ii/
LOCATION:AgriLife Extension Office
END:VEVENT
BEGIN:VEVENT
DTSTART;TZID=UTC:20230811T100000
DTEND;TZID=UTC:20230811T100000
DTSTAMP:20260423T021100
CREATED:20240314T232200Z
LAST-MODIFIED:20240314T233312Z
UID:2075-1691748000-1691748000@fredericksburgnaturecenter.com
SUMMARY:Solar Eclipses & Other Dark Skies
DESCRIPTION:“Solar Eclipses & Other Dark Skies” with Star Party to follow lecture\, presented by Jeff Stone\, Retired NASA Engineer\, \nAgriLife Extension Office\, Fredericksburg\, TX
URL:https://fredericksburgnaturecenter.com/event/solar-eclipses-other-dark-skies/
LOCATION:AgriLife Extension Office
END:VEVENT
BEGIN:VEVENT
DTSTART;TZID=UTC:20230616T100000
DTEND;TZID=UTC:20230616T120000
DTSTAMP:20260423T021100
CREATED:20230311T013135Z
LAST-MODIFIED:20230311T013330Z
UID:1796-1686909600-1686916800@fredericksburgnaturecenter.com
SUMMARY:Native Bees and Bee Habitat
DESCRIPTION:Presenter: Molly Keck\, Texas Agri-Life Extension Fredericksburg Agri-Life Extension Office\n10:00 A.M. to 12:00 Noon.
URL:https://fredericksburgnaturecenter.com/event/native-bees-and-bee-habitat/
END:VEVENT
BEGIN:VEVENT
DTSTART;TZID=UTC:20230506T090000
DTEND;TZID=UTC:20230506T103000
DTSTAMP:20260423T021100
CREATED:20230311T012855Z
LAST-MODIFIED:20230311T013341Z
UID:1794-1683363600-1683369000@fredericksburgnaturecenter.com
SUMMARY:Trail Ecosystem Walk and Talk “The Wildflowers of FNC”
DESCRIPTION:Hike Leader: Bill Guin\, Hill Country Master Naturalist Hike duration from 9:00-10:30am & 1 mile in length. \nHike starts at the Live Oak Wilderness Trailhead at Lady Bird Johnson Municipal Park.
URL:https://fredericksburgnaturecenter.com/event/trail-ecosystem-walk-and-talk-the-wildflowers-of-fnc/
END:VEVENT
BEGIN:VEVENT
DTSTART;TZID=UTC:20230419T100000
DTEND;TZID=UTC:20230419T120000
DTSTAMP:20260423T021100
CREATED:20230215T000013Z
LAST-MODIFIED:20230215T153959Z
UID:1767-1681898400-1681905600@fredericksburgnaturecenter.com
SUMMARY:iNaturalist for Science\, Learning and Fun
DESCRIPTION:iNaturalist for Science\, Learning and Fun\n\n\nApril 19\, 2023\n\nJoin us in welcoming Craig Hensley\, our favorite TPWD Texas Nature Trackers Biologist\, on April 19th from 10 a.m. – noon\, at the Tatsch House in Lady Bird Johnson Park. This presentation will focus on using iNaturalist as a tool for learning and contributing to citizen scientist efforts.\nThe iNaturalist app provides users the opportunity not only to learn more about the nature around them\, but to also contribute more understanding of the flora and fauna of an area\, whether it is Texas\, your own backyard or the nature center’s grounds in Fredericksburg. During this presentation by Texas Nature Trackers Biologist Craig Hensley\, you’ll learn about the app\, how to apply it to your property or elsewhere and take it outside to hone your skills with your cell phone. You’ll also find out how you can participate in the City Nature Challenge from April 29-May 1st.\nCapacity is limited for this free program and because we expect it to fill up quickly\, pre-registration is required. To register or for further information\, please contact Gracie Waggener at gwaggener@flow-apps.com.
URL:https://fredericksburgnaturecenter.com/event/inaturalist-for-science-learning-and-fun/
LOCATION:Tatsch House in Lady Bird Johnson Park
ORGANIZER;CN="Gracie Waggner":MAILTO:gwaggener@flow-apps.com.
END:VEVENT
BEGIN:VEVENT
DTSTART;TZID=UTC:20230401T090000
DTEND;TZID=UTC:20230401T103000
DTSTAMP:20260423T021100
CREATED:20230311T012527Z
LAST-MODIFIED:20230311T013349Z
UID:1792-1680339600-1680345000@fredericksburgnaturecenter.com
SUMMARY:Trail Ecosystem Walk and Talk “The Seven Micro-habitats of FNC”
DESCRIPTION:Hike Leader: Trudy Eberhardt\, Hill Country Master Naturalist Hike duration from 9:00-10:30am & 1 mile in length. \nHike starts at the Live Oak Wilderness Trailhead at Lady Bird Johnson Municipal Park.
URL:https://fredericksburgnaturecenter.com/event/trail-ecosystem-walk-and-talk-the-seven-micro-habitats-of-fnc/
END:VEVENT
BEGIN:VEVENT
DTSTART;VALUE=DATE:20230313
DTEND;VALUE=DATE:20230314
DTSTAMP:20260423T021100
CREATED:20230311T195154Z
LAST-MODIFIED:20230311T195154Z
UID:1805-1678665600-1678751999@fredericksburgnaturecenter.com
SUMMARY:Special Spring Break Event On The HAT Trail
DESCRIPTION:Story Walk 8.5 X 11 Ricky the Rock
URL:https://fredericksburgnaturecenter.com/event/special-spring-break-event-on-the-hat-trail/
END:VEVENT
BEGIN:VEVENT
DTSTART;TZID=UTC:20230211T100000
DTEND;TZID=UTC:20230211T110000
DTSTAMP:20260423T021100
CREATED:20230109T171338Z
LAST-MODIFIED:20230110T032405Z
UID:1719-1676109600-1676113200@fredericksburgnaturecenter.com
SUMMARY:Monarchs and Milkweed Propagation
DESCRIPTION:
URL:https://fredericksburgnaturecenter.com/event/monarchs-and-milkweed-propagation/
ATTACH;FMTTYPE=image/jpeg:https://fredericksburgnaturecenter.com/wp-content/uploads/2023/01/Monarch-and-Milkweed-Propagation_Feb2023.jpg
ORGANIZER;CN="Gracie Waggner":MAILTO:gwaggener@flow-apps.com.
END:VEVENT
BEGIN:VEVENT
DTSTART;TZID=UTC:20221009T130000
DTEND;TZID=UTC:20221009T153000
DTSTAMP:20260423T021100
CREATED:20220913T124435Z
LAST-MODIFIED:20220913T124449Z
UID:1654-1665320400-1665329400@fredericksburgnaturecenter.com
SUMMARY:Wings Over the Fredericksburg Nature Center
DESCRIPTION:Wings Over FNC Flyer rev
URL:https://fredericksburgnaturecenter.com/event/wings-over-the-fredericksburg-nature-center/
END:VEVENT
BEGIN:VEVENT
DTSTART;TZID=UTC:20221001T130000
DTEND;TZID=UTC:20221001T140000
DTSTAMP:20260423T021100
CREATED:20220913T124615Z
LAST-MODIFIED:20220913T124615Z
UID:1657-1664629200-1664632800@fredericksburgnaturecenter.com
SUMMARY:Bird Migration Workshop
DESCRIPTION:Bird Migration Workshop_Oct2022
URL:https://fredericksburgnaturecenter.com/event/bird-migration-workshop/
END:VEVENT
END:VCALENDAR