BEGIN:VCALENDAR
VERSION:2.0
PRODID:-//Fredericksburg Nature Center - ECPv6.15.20//NONSGML v1.0//EN
CALSCALE:GREGORIAN
METHOD:PUBLISH
X-WR-CALNAME:Fredericksburg Nature Center
X-ORIGINAL-URL:https://fredericksburgnaturecenter.com
X-WR-CALDESC:Events for Fredericksburg Nature Center
REFRESH-INTERVAL;VALUE=DURATION:PT1H
X-Robots-Tag:noindex
X-PUBLISHED-TTL:PT1H
BEGIN:VTIMEZONE
TZID:UTC
BEGIN:STANDARD
TZOFFSETFROM:+0000
TZOFFSETTO:+0000
TZNAME:UTC
DTSTART:20210101T000000
END:STANDARD
END:VTIMEZONE
BEGIN:VEVENT
DTSTART;TZID=UTC:20230616T100000
DTEND;TZID=UTC:20230616T120000
DTSTAMP:20260423T052756
CREATED:20230311T013135Z
LAST-MODIFIED:20230311T013330Z
UID:1796-1686909600-1686916800@fredericksburgnaturecenter.com
SUMMARY:Native Bees and Bee Habitat
DESCRIPTION:Presenter: Molly Keck\, Texas Agri-Life Extension Fredericksburg Agri-Life Extension Office\n10:00 A.M. to 12:00 Noon.
URL:https://fredericksburgnaturecenter.com/event/native-bees-and-bee-habitat/
END:VEVENT
BEGIN:VEVENT
DTSTART;TZID=UTC:20230506T090000
DTEND;TZID=UTC:20230506T103000
DTSTAMP:20260423T052756
CREATED:20230311T012855Z
LAST-MODIFIED:20230311T013341Z
UID:1794-1683363600-1683369000@fredericksburgnaturecenter.com
SUMMARY:Trail Ecosystem Walk and Talk “The Wildflowers of FNC”
DESCRIPTION:Hike Leader: Bill Guin\, Hill Country Master Naturalist Hike duration from 9:00-10:30am & 1 mile in length. \nHike starts at the Live Oak Wilderness Trailhead at Lady Bird Johnson Municipal Park.
URL:https://fredericksburgnaturecenter.com/event/trail-ecosystem-walk-and-talk-the-wildflowers-of-fnc/
END:VEVENT
BEGIN:VEVENT
DTSTART;TZID=UTC:20230419T100000
DTEND;TZID=UTC:20230419T120000
DTSTAMP:20260423T052756
CREATED:20230215T000013Z
LAST-MODIFIED:20230215T153959Z
UID:1767-1681898400-1681905600@fredericksburgnaturecenter.com
SUMMARY:iNaturalist for Science\, Learning and Fun
DESCRIPTION:iNaturalist for Science\, Learning and Fun\n\n\nApril 19\, 2023\n\nJoin us in welcoming Craig Hensley\, our favorite TPWD Texas Nature Trackers Biologist\, on April 19th from 10 a.m. – noon\, at the Tatsch House in Lady Bird Johnson Park. This presentation will focus on using iNaturalist as a tool for learning and contributing to citizen scientist efforts.\nThe iNaturalist app provides users the opportunity not only to learn more about the nature around them\, but to also contribute more understanding of the flora and fauna of an area\, whether it is Texas\, your own backyard or the nature center’s grounds in Fredericksburg. During this presentation by Texas Nature Trackers Biologist Craig Hensley\, you’ll learn about the app\, how to apply it to your property or elsewhere and take it outside to hone your skills with your cell phone. You’ll also find out how you can participate in the City Nature Challenge from April 29-May 1st.\nCapacity is limited for this free program and because we expect it to fill up quickly\, pre-registration is required. To register or for further information\, please contact Gracie Waggener at gwaggener@flow-apps.com.
URL:https://fredericksburgnaturecenter.com/event/inaturalist-for-science-learning-and-fun/
LOCATION:Tatsch House in Lady Bird Johnson Park
ORGANIZER;CN="Gracie Waggner":MAILTO:gwaggener@flow-apps.com.
END:VEVENT
BEGIN:VEVENT
DTSTART;TZID=UTC:20230401T090000
DTEND;TZID=UTC:20230401T103000
DTSTAMP:20260423T052756
CREATED:20230311T012527Z
LAST-MODIFIED:20230311T013349Z
UID:1792-1680339600-1680345000@fredericksburgnaturecenter.com
SUMMARY:Trail Ecosystem Walk and Talk “The Seven Micro-habitats of FNC”
DESCRIPTION:Hike Leader: Trudy Eberhardt\, Hill Country Master Naturalist Hike duration from 9:00-10:30am & 1 mile in length. \nHike starts at the Live Oak Wilderness Trailhead at Lady Bird Johnson Municipal Park.
URL:https://fredericksburgnaturecenter.com/event/trail-ecosystem-walk-and-talk-the-seven-micro-habitats-of-fnc/
END:VEVENT
BEGIN:VEVENT
DTSTART;VALUE=DATE:20230313
DTEND;VALUE=DATE:20230314
DTSTAMP:20260423T052756
CREATED:20230311T195154Z
LAST-MODIFIED:20230311T195154Z
UID:1805-1678665600-1678751999@fredericksburgnaturecenter.com
SUMMARY:Special Spring Break Event On The HAT Trail
DESCRIPTION:Story Walk 8.5 X 11 Ricky the Rock
URL:https://fredericksburgnaturecenter.com/event/special-spring-break-event-on-the-hat-trail/
END:VEVENT
BEGIN:VEVENT
DTSTART;TZID=UTC:20230211T100000
DTEND;TZID=UTC:20230211T110000
DTSTAMP:20260423T052756
CREATED:20230109T171338Z
LAST-MODIFIED:20230110T032405Z
UID:1719-1676109600-1676113200@fredericksburgnaturecenter.com
SUMMARY:Monarchs and Milkweed Propagation
DESCRIPTION:
URL:https://fredericksburgnaturecenter.com/event/monarchs-and-milkweed-propagation/
ATTACH;FMTTYPE=image/jpeg:https://fredericksburgnaturecenter.com/wp-content/uploads/2023/01/Monarch-and-Milkweed-Propagation_Feb2023.jpg
ORGANIZER;CN="Gracie Waggner":MAILTO:gwaggener@flow-apps.com.
END:VEVENT
BEGIN:VEVENT
DTSTART;TZID=UTC:20221009T130000
DTEND;TZID=UTC:20221009T153000
DTSTAMP:20260423T052756
CREATED:20220913T124435Z
LAST-MODIFIED:20220913T124449Z
UID:1654-1665320400-1665329400@fredericksburgnaturecenter.com
SUMMARY:Wings Over the Fredericksburg Nature Center
DESCRIPTION:Wings Over FNC Flyer rev
URL:https://fredericksburgnaturecenter.com/event/wings-over-the-fredericksburg-nature-center/
END:VEVENT
BEGIN:VEVENT
DTSTART;TZID=UTC:20221001T130000
DTEND;TZID=UTC:20221001T140000
DTSTAMP:20260423T052756
CREATED:20220913T124615Z
LAST-MODIFIED:20220913T124615Z
UID:1657-1664629200-1664632800@fredericksburgnaturecenter.com
SUMMARY:Bird Migration Workshop
DESCRIPTION:Bird Migration Workshop_Oct2022
URL:https://fredericksburgnaturecenter.com/event/bird-migration-workshop/
END:VEVENT
END:VCALENDAR